BEGIN:VCALENDAR
PRODID:-//IKK Classic//DE
VERSION:2.0
CALSCALE:GREGORIAN
BEGIN:VEVENT
DTSTAMP:20260421T132704Z
DTSTART:20260420T150000
DTEND:20260420T180000
SUMMARY:Panelveranstaltung zur offiziellen Vorstellung der Versorgungsage
 nda 2040
UID:26b1990b-774f-4755-a5ea-dcecb43cfd4a
LOCATION:Wartehalle Berlin Julie-Wolfthorn-Straße 1\, 10115 Berlin
END:VEVENT
END:VCALENDAR
